BEGIN:VCALENDAR
PRODID:www.socialpolitik.de
VERSION:2.0
CALSCALE:GREGORIAN
BEGIN:VEVENT
UID:5f0126f7a6f0f7816d6fcd39c1132fab
DTSTAMP:20260422T174020Z
SUMMARY:Annual Conference 2028
DTSTART:20280910T100000Z
DTEND:20280913T140000Z
LOCATION:Universität Hamburg\, Mittelweg 177\, 20148 Hamburg\, Germany
X-MICROSOFT-LOCATIONDISPLAYNAME:Universität Hamburg\, Mittelweg 177\, 2014
 8 Hamburg\, Germany
X-MICROSOFT-LOCATIONSTREET:Mittelweg 177
X-MICROSOFT-LOCATIONPOSTALCODE:20148
X-MICROSOFT-LOCATIONCITY:Hamburg
X-MICROSOFT-LOCATIONCOUNTRY:Germany
END:VEVENT
END:VCALENDAR
