BEGIN:VCALENDAR
PRODID:www.socialpolitik.de
VERSION:2.0
CALSCALE:GREGORIAN
BEGIN:VEVENT
UID:c77a4fd70f42ba90f72431f87b467d9d
DTSTAMP:20260423T145711Z
SUMMARY:Annual Conference 2025
DTSTART:20250914T100000Z
DTEND:20250917T160000Z
LOCATION:Universität zu Köln\, Albertus-Magnus-Platz\, 50923 Köln\, Germ
 any
X-MICROSOFT-LOCATIONDISPLAYNAME:Universität zu Köln\, Albertus-Magnus-Pla
 tz\, 50923 Köln\, Germany
X-MICROSOFT-LOCATIONSTREET:Albertus-Magnus-Platz
X-MICROSOFT-LOCATIONPOSTALCODE:50923
X-MICROSOFT-LOCATIONCITY:Köln
X-MICROSOFT-LOCATIONCOUNTRY:Germany
END:VEVENT
END:VCALENDAR
