BEGIN:VCALENDAR
PRODID:www.socialpolitik.de
VERSION:2.0
CALSCALE:GREGORIAN
BEGIN:VEVENT
UID:1396a012eced97c7c611bcc55131477f
DTSTAMP:20260422T153828Z
SUMMARY:Jahrestagung 2028
DTSTART:20280910T100000Z
DTEND:20280913T140000Z
LOCATION:Universität Hamburg\, Mittelweg 177\, 20148 Hamburg\, Deutschland
X-MICROSOFT-LOCATIONDISPLAYNAME:Universität Hamburg\, Mittelweg 177\, 2014
 8 Hamburg\, Deutschland
X-MICROSOFT-LOCATIONSTREET:Mittelweg 177
X-MICROSOFT-LOCATIONPOSTALCODE:20148
X-MICROSOFT-LOCATIONCITY:Hamburg
X-MICROSOFT-LOCATIONCOUNTRY:Deutschland
END:VEVENT
END:VCALENDAR
