BEGIN:VCALENDAR
PRODID:www.socialpolitik.de
VERSION:2.0
CALSCALE:GREGORIAN
BEGIN:VEVENT
UID:e262baaef6802f1eb6b526cd5823dfb6
DTSTAMP:20260423T043348Z
SUMMARY:Online-Panel: VfS-Nachwuchsbericht
DTSTART:20221214T160000Z
DTEND:20221214T173000Z
LOCATION:
X-MICROSOFT-LOCATIONDISPLAYNAME:
END:VEVENT
END:VCALENDAR
